Package: clustComp Version: 1.35.0 Command: /home/biocbuild/bbs-3.21-bioc/R/bin/R CMD build --keep-empty-dirs --no-resave-data clustComp StartedAt: 2025-02-19 16:41:01 -0500 (Wed, 19 Feb 2025) EndedAt: 2025-02-19 16:42:01 -0500 (Wed, 19 Feb 2025) EllapsedTime: 60.1 seconds RetCode: 0 Status: OK PackageFile: clustComp_1.35.0.tar.gz PackageFileSize: 931.5 KiB