Package: clustComp Version: 1.35.0 Command: /Library/Frameworks/R.framework/Resources/bin/R CMD INSTALL clustComp StartedAt: 2025-02-20 15:03:10 -0500 (Thu, 20 Feb 2025) EndedAt: 2025-02-20 15:03:36 -0500 (Thu, 20 Feb 2025) EllapsedTime: 26.1 seconds RetCode: 0 Status: OK