Package: clustComp Version: 1.35.0 Command: /Library/Frameworks/R.framework/Resources/bin/R CMD check --install=check:clustComp.install-out.txt --library=/Library/Frameworks/R.framework/Resources/library --no-vignettes --timings clustComp_1.35.0.tar.gz StartedAt: 2025-02-20 19:32:24 -0500 (Thu, 20 Feb 2025) EndedAt: 2025-02-20 19:32:54 -0500 (Thu, 20 Feb 2025) EllapsedTime: 29.8 seconds RetCode: 0 Status: OK CheckDir: clustComp.Rcheck Warnings: 0