Package: clustComp Version: 1.35.0 Command: /Library/Frameworks/R.framework/Resources/bin/R CMD build --keep-empty-dirs --no-resave-data clustComp StartedAt: 2025-02-20 16:15:17 -0500 (Thu, 20 Feb 2025) EndedAt: 2025-02-20 16:16:20 -0500 (Thu, 20 Feb 2025) EllapsedTime: 63.1 seconds RetCode: 0 Status: OK PackageFile: clustComp_1.35.0.tar.gz PackageFileSize: 928.6 KiB