Package: clustComp Version: 1.35.0 Command: rm -rf clustComp.buildbin-libdir && mkdir clustComp.buildbin-libdir && /Users/biocbuild/BBS/utils/build-universal.sh clustComp_1.35.0.tar.gz /Library/Frameworks/R.framework/Resources/bin/R clustComp.buildbin-libdir StartedAt: 2025-02-21 00:24:27 -0500 (Fri, 21 Feb 2025) EndedAt: 2025-02-21 00:24:34 -0500 (Fri, 21 Feb 2025) EllapsedTime: 6.9 seconds RetCode: 0 Status: OK PackageFile: clustComp_1.35.0.tgz PackageFileSize: 1014 KiB