Package: clustComp Version: 1.36.0 Command: /Library/Frameworks/R.framework/Resources/bin/R CMD INSTALL clustComp StartedAt: 2025-10-02 15:08:19 -0400 (Thu, 02 Oct 2025) EndedAt: 2025-10-02 15:08:23 -0400 (Thu, 02 Oct 2025) EllapsedTime: 3.2 seconds RetCode: 0 Status: OK