Package: clustComp Version: 1.36.0 Command: /Library/Frameworks/R.framework/Resources/bin/R CMD build --keep-empty-dirs --no-resave-data clustComp StartedAt: 2025-10-02 21:28:31 -0400 (Thu, 02 Oct 2025) EndedAt: 2025-10-02 21:29:45 -0400 (Thu, 02 Oct 2025) EllapsedTime: 74.1 seconds RetCode: 0 Status: OK PackageFile: clustComp_1.36.0.tar.gz PackageFileSize: 931.3 KiB