Package: clustComp Version: 1.36.0 Command: rm -rf clustComp.buildbin-libdir && mkdir clustComp.buildbin-libdir && /Users/biocbuild/BBS/utils/build-universal.sh clustComp_1.36.0.tar.gz /Library/Frameworks/R.framework/Resources/bin/R clustComp.buildbin-libdir StartedAt: 2025-10-04 17:23:30 -0400 (Sat, 04 Oct 2025) EndedAt: 2025-10-04 17:23:36 -0400 (Sat, 04 Oct 2025) EllapsedTime: 5.7 seconds RetCode: 0 Status: OK PackageFile: clustComp_1.36.0.tgz PackageFileSize: 1018 KiB