Package: clstutils Version: 1.55.0 Command: E:\biocbuild\bbs-3.21-bioc\R\bin\R.exe CMD check --no-multiarch --install=check:clstutils.install-out.txt --library=E:\biocbuild\bbs-3.21-bioc\R\library --no-vignettes --timings clstutils_1.55.0.tar.gz StartedAt: 2025-02-19 23:43:00 -0500 (Wed, 19 Feb 2025) EndedAt: 2025-02-19 23:44:07 -0500 (Wed, 19 Feb 2025) EllapsedTime: 66.7 seconds RetCode: 0 Status: WARNINGS CheckDir: clstutils.Rcheck Warnings: 1