Package: clstutils Version: 1.55.0 Command: /home/biocbuild/bbs-3.21-bioc/R/bin/R CMD INSTALL clstutils StartedAt: 2025-02-19 15:07:15 -0500 (Wed, 19 Feb 2025) EndedAt: 2025-02-19 15:07:45 -0500 (Wed, 19 Feb 2025) EllapsedTime: 30.6 seconds RetCode: 0 Status: OK