Package: clstutils Version: 1.55.0 Command: /Library/Frameworks/R.framework/Resources/bin/R CMD INSTALL clstutils StartedAt: 2025-02-19 15:12:53 -0500 (Wed, 19 Feb 2025) EndedAt: 2025-02-19 15:12:59 -0500 (Wed, 19 Feb 2025) EllapsedTime: 6.6 seconds RetCode: 0 Status: OK