Package: clstutils Version: 1.55.0 Command: rm -rf clstutils.buildbin-libdir && mkdir clstutils.buildbin-libdir && /Users/biocbuild/BBS/utils/build-universal.sh clstutils_1.55.0.tar.gz /Library/Frameworks/R.framework/Resources/bin/R clstutils.buildbin-libdir StartedAt: 2025-02-20 00:25:45 -0500 (Thu, 20 Feb 2025) EndedAt: 2025-02-20 00:25:53 -0500 (Thu, 20 Feb 2025) EllapsedTime: 8.1 seconds RetCode: 0 Status: OK PackageFile: clstutils_1.55.0.tgz PackageFileSize: 2.727 MiB