Package: clst Version: 1.55.0 Command: chmod a+r clst -R && E:\biocbuild\bbs-3.21-bioc\R\bin\R.exe CMD build --keep-empty-dirs --no-resave-data clst StartedAt: 2025-02-19 17:55:42 -0500 (Wed, 19 Feb 2025) EndedAt: 2025-02-19 17:56:10 -0500 (Wed, 19 Feb 2025) EllapsedTime: 27.3 seconds RetCode: 0 Status: OK PackageFile: clst_1.55.0.tar.gz PackageFileSize: 930.5 KiB