Package: clst Version: 1.55.0 Command: /home/biocbuild/bbs-3.21-bioc/R/bin/R CMD build --keep-empty-dirs --no-resave-data clst StartedAt: 2025-02-19 16:40:47 -0500 (Wed, 19 Feb 2025) EndedAt: 2025-02-19 16:41:02 -0500 (Wed, 19 Feb 2025) EllapsedTime: 15.0 seconds RetCode: 0 Status: OK PackageFile: clst_1.55.0.tar.gz PackageFileSize: 1.018 MiB