Package: clst Version: 1.55.0 Command: /Library/Frameworks/R.framework/Resources/bin/R CMD check --install=check:clst.install-out.txt --library=/Library/Frameworks/R.framework/Resources/library --no-vignettes --timings clst_1.55.0.tar.gz StartedAt: 2025-02-19 18:35:42 -0500 (Wed, 19 Feb 2025) EndedAt: 2025-02-19 18:35:59 -0500 (Wed, 19 Feb 2025) EllapsedTime: 16.2 seconds RetCode: 0 Status: WARNINGS CheckDir: clst.Rcheck Warnings: 1