Package: clipper Version: 1.47.0 Command: chmod a+r clipper -R && E:\biocbuild\bbs-3.21-bioc\R\bin\R.exe CMD build --keep-empty-dirs --no-resave-data clipper StartedAt: 2025-02-19 17:55:02 -0500 (Wed, 19 Feb 2025) EndedAt: 2025-02-19 17:56:27 -0500 (Wed, 19 Feb 2025) EllapsedTime: 85.7 seconds RetCode: 0 Status: OK PackageFile: clipper_1.47.0.tar.gz PackageFileSize: 1008 KiB