Package: clipper Version: 1.47.0 Command: /Library/Frameworks/R.framework/Resources/bin/R CMD INSTALL clipper StartedAt: 2025-02-20 15:19:22 -0500 (Thu, 20 Feb 2025) EndedAt: 2025-02-20 15:20:13 -0500 (Thu, 20 Feb 2025) EllapsedTime: 50.6 seconds RetCode: 0 Status: OK