Package: clipper Version: 1.47.0 Command: rm -rf clipper.buildbin-libdir && mkdir clipper.buildbin-libdir && /Users/biocbuild/BBS/utils/build-universal.sh clipper_1.47.0.tar.gz /Library/Frameworks/R.framework/Resources/bin/R clipper.buildbin-libdir StartedAt: 2025-02-21 00:24:20 -0500 (Fri, 21 Feb 2025) EndedAt: 2025-02-21 00:25:15 -0500 (Fri, 21 Feb 2025) EllapsedTime: 55.4 seconds RetCode: 0 Status: OK PackageFile: clipper_1.47.0.tgz PackageFileSize: 714.7 KiB