Package: clipper Version: 1.47.0 Command: /home/biocbuild/R/R/bin/R CMD INSTALL clipper StartedAt: 2025-01-29 19:52:37 -0000 (Wed, 29 Jan 2025) EndedAt: 2025-01-29 19:53:31 -0000 (Wed, 29 Jan 2025) EllapsedTime: 53.2 seconds RetCode: 0 Status: OK