Package: clipper Version: 1.47.0 Command: /home/biocbuild/R/R/bin/R CMD check --install=check:clipper.install-out.txt --library=/home/biocbuild/R/R/site-library --no-vignettes --timings clipper_1.47.0.tar.gz StartedAt: 2025-01-28 09:13:10 -0000 (Tue, 28 Jan 2025) EndedAt: 2025-01-28 09:19:49 -0000 (Tue, 28 Jan 2025) EllapsedTime: 399.3 seconds RetCode: 0 Status: OK CheckDir: clipper.Rcheck Warnings: 0