Package: clipper Version: 1.47.0 Command: rm -rf clipper.buildbin-libdir && mkdir clipper.buildbin-libdir && /Users/biocbuild/BBS/utils/build-universal.sh clipper_1.47.0.tar.gz /Library/Frameworks/R.framework/Resources/bin/R clipper.buildbin-libdir StartedAt: 2025-02-19 22:17:07 -0500 (Wed, 19 Feb 2025) EndedAt: 2025-02-19 22:17:25 -0500 (Wed, 19 Feb 2025) EllapsedTime: 17.4 seconds RetCode: 0 Status: OK PackageFile: clipper_1.47.0.tgz PackageFileSize: 715.5 KiB