Package: cliProfiler Version: 1.13.0 Command: /home/biocbuild/bbs-3.21-bioc/R/bin/R CMD build --keep-empty-dirs --no-resave-data cliProfiler StartedAt: 2025-02-19 16:40:16 -0500 (Wed, 19 Feb 2025) EndedAt: 2025-02-19 16:41:25 -0500 (Wed, 19 Feb 2025) EllapsedTime: 69.1 seconds RetCode: 0 Status: OK PackageFile: cliProfiler_1.13.0.tar.gz PackageFileSize: 1.209 MiB