Package: cliProfiler Version: 1.13.0 Command: /Library/Frameworks/R.framework/Resources/bin/R CMD build --keep-empty-dirs --no-resave-data cliProfiler StartedAt: 2025-02-19 15:55:46 -0500 (Wed, 19 Feb 2025) EndedAt: 2025-02-19 15:56:14 -0500 (Wed, 19 Feb 2025) EllapsedTime: 27.3 seconds RetCode: 0 Status: OK PackageFile: cliProfiler_1.13.0.tar.gz PackageFileSize: 1.283 MiB