Package: clevRvis Version: 1.7.0 Command: /home/biocbuild/bbs-3.21-bioc/R/bin/R CMD INSTALL clevRvis StartedAt: 2025-02-18 15:08:39 -0500 (Tue, 18 Feb 2025) EndedAt: 2025-02-18 15:08:53 -0500 (Tue, 18 Feb 2025) EllapsedTime: 14.2 seconds RetCode: 0 Status: OK