Package: clevRvis Version: 1.7.0 Command: /home/biocbuild/bbs-3.21-bioc/R/bin/R CMD check --install=check:clevRvis.install-out.txt --library=/home/biocbuild/bbs-3.21-bioc/R/site-library --timings clevRvis_1.7.0.tar.gz StartedAt: 2025-02-19 20:53:13 -0500 (Wed, 19 Feb 2025) EndedAt: 2025-02-19 20:54:19 -0500 (Wed, 19 Feb 2025) EllapsedTime: 66.1 seconds RetCode: 0 Status: OK CheckDir: clevRvis.Rcheck Warnings: 0