Package: clevRvis Version: 1.7.0 Command: /home/biocbuild/bbs-3.21-bioc/R/bin/R CMD build --keep-empty-dirs --no-resave-data clevRvis StartedAt: 2025-02-18 16:36:37 -0500 (Tue, 18 Feb 2025) EndedAt: 2025-02-18 16:36:58 -0500 (Tue, 18 Feb 2025) EllapsedTime: 21.0 seconds RetCode: 0 Status: OK PackageFile: clevRvis_1.7.0.tar.gz PackageFileSize: 2.17 MiB