Package: clevRvis Version: 1.7.0 Command: /Library/Frameworks/R.framework/Resources/bin/R CMD check --install=check:clevRvis.install-out.txt --library=/Library/Frameworks/R.framework/Resources/library --no-vignettes --timings clevRvis_1.7.0.tar.gz StartedAt: 2025-02-18 19:27:38 -0500 (Tue, 18 Feb 2025) EndedAt: 2025-02-18 19:28:57 -0500 (Tue, 18 Feb 2025) EllapsedTime: 79.1 seconds RetCode: 0 Status: OK CheckDir: clevRvis.Rcheck Warnings: 0