Package: clevRvis Version: 1.7.0 Command: /Library/Frameworks/R.framework/Resources/bin/R CMD build --keep-empty-dirs --no-resave-data clevRvis StartedAt: 2025-02-18 15:56:02 -0500 (Tue, 18 Feb 2025) EndedAt: 2025-02-18 15:56:12 -0500 (Tue, 18 Feb 2025) EllapsedTime: 10.1 seconds RetCode: 0 Status: OK PackageFile: clevRvis_1.7.0.tar.gz PackageFileSize: 2.374 MiB