Package: cleaver Version: 1.45.0 Command: chmod a+r cleaver -R && E:\biocbuild\bbs-3.21-bioc\R\bin\R.exe CMD build --keep-empty-dirs --no-resave-data cleaver StartedAt: 2025-02-19 17:54:44 -0500 (Wed, 19 Feb 2025) EndedAt: 2025-02-19 17:55:14 -0500 (Wed, 19 Feb 2025) EllapsedTime: 29.8 seconds RetCode: 0 Status: OK PackageFile: cleaver_1.45.0.tar.gz PackageFileSize: 320.6 KiB