Package: cleaver Version: 1.45.0 Command: /home/biocbuild/bbs-3.21-bioc/R/bin/R CMD INSTALL cleaver StartedAt: 2025-02-18 15:21:29 -0500 (Tue, 18 Feb 2025) EndedAt: 2025-02-18 15:21:39 -0500 (Tue, 18 Feb 2025) EllapsedTime: 9.2 seconds RetCode: 0 Status: OK