Package: cleaver Version: 1.45.0 Command: /Library/Frameworks/R.framework/Resources/bin/R CMD INSTALL cleaver StartedAt: 2025-02-18 15:04:11 -0500 (Tue, 18 Feb 2025) EndedAt: 2025-02-18 15:04:15 -0500 (Tue, 18 Feb 2025) EllapsedTime: 4.4 seconds RetCode: 0 Status: OK