Package: cleanUpdTSeq Version: 1.45.1 Command: /Library/Frameworks/R.framework/Resources/bin/R CMD INSTALL cleanUpdTSeq StartedAt: 2025-02-19 15:21:24 -0500 (Wed, 19 Feb 2025) EndedAt: 2025-02-19 15:23:20 -0500 (Wed, 19 Feb 2025) EllapsedTime: 116.1 seconds RetCode: 0 Status: OK