Package: cleanUpdTSeq Version: 1.45.1 Command: /Library/Frameworks/R.framework/Resources/bin/R CMD check --install=check:cleanUpdTSeq.install-out.txt --library=/Library/Frameworks/R.framework/Resources/library --no-vignettes --timings cleanUpdTSeq_1.45.1.tar.gz StartedAt: 2025-02-19 19:30:42 -0500 (Wed, 19 Feb 2025) EndedAt: 2025-02-19 19:36:02 -0500 (Wed, 19 Feb 2025) EllapsedTime: 319.6 seconds RetCode: 0 Status: OK CheckDir: cleanUpdTSeq.Rcheck Warnings: 0