Package: cleanUpdTSeq Version: 1.45.1 Command: rm -rf cleanUpdTSeq.buildbin-libdir && mkdir cleanUpdTSeq.buildbin-libdir && /Users/biocbuild/BBS/utils/build-universal.sh cleanUpdTSeq_1.45.1.tar.gz /Library/Frameworks/R.framework/Resources/bin/R cleanUpdTSeq.buildbin-libdir StartedAt: 2025-02-19 22:17:02 -0500 (Wed, 19 Feb 2025) EndedAt: 2025-02-19 22:17:29 -0500 (Wed, 19 Feb 2025) EllapsedTime: 26.5 seconds RetCode: 0 Status: OK PackageFile: cleanUpdTSeq_1.45.1.tgz PackageFileSize: 5.87 MiB