Package: cisPath Version: 1.47.0 Command: /home/biocbuild/bbs-3.21-bioc/R/bin/R CMD INSTALL cisPath StartedAt: 2025-02-20 15:01:53 -0500 (Thu, 20 Feb 2025) EndedAt: 2025-02-20 15:02:05 -0500 (Thu, 20 Feb 2025) EllapsedTime: 12.0 seconds RetCode: 0 Status: OK