Package: cisPath Version: 1.47.0 Command: /Library/Frameworks/R.framework/Resources/bin/R CMD INSTALL cisPath StartedAt: 2025-02-20 15:03:04 -0500 (Thu, 20 Feb 2025) EndedAt: 2025-02-20 15:03:23 -0500 (Thu, 20 Feb 2025) EllapsedTime: 18.6 seconds RetCode: 0 Status: OK