Package: cisPath Version: 1.47.0 Command: /Library/Frameworks/R.framework/Resources/bin/R CMD check --install=check:cisPath.install-out.txt --library=/Library/Frameworks/R.framework/Resources/library --no-vignettes --timings cisPath_1.47.0.tar.gz StartedAt: 2025-02-20 19:30:04 -0500 (Thu, 20 Feb 2025) EndedAt: 2025-02-20 19:30:35 -0500 (Thu, 20 Feb 2025) EllapsedTime: 30.9 seconds RetCode: 0 Status: WARNINGS CheckDir: cisPath.Rcheck Warnings: 2