Package: cisPath Version: 1.47.0 Command: /Library/Frameworks/R.framework/Resources/bin/R CMD build --keep-empty-dirs --no-resave-data cisPath StartedAt: 2025-02-20 16:14:13 -0500 (Thu, 20 Feb 2025) EndedAt: 2025-02-20 16:14:41 -0500 (Thu, 20 Feb 2025) EllapsedTime: 27.6 seconds RetCode: 0 Status: OK PackageFile: cisPath_1.47.0.tar.gz PackageFileSize: 1.032 MiB