Package: cisPath Version: 1.47.0 Command: rm -rf cisPath.buildbin-libdir && mkdir cisPath.buildbin-libdir && /Users/biocbuild/BBS/utils/build-universal.sh cisPath_1.47.0.tar.gz /Library/Frameworks/R.framework/Resources/bin/R cisPath.buildbin-libdir StartedAt: 2025-02-20 22:13:51 -0500 (Thu, 20 Feb 2025) EndedAt: 2025-02-20 22:13:58 -0500 (Thu, 20 Feb 2025) EllapsedTime: 6.1 seconds RetCode: 0 Status: OK PackageFile: cisPath_1.47.0.tgz PackageFileSize: 1.08 MiB