Package: circRNAprofiler Version: 1.21.0 Command: /home/biocbuild/bbs-3.21-bioc/R/bin/R CMD check --install=check:circRNAprofiler.install-out.txt --library=/home/biocbuild/bbs-3.21-bioc/R/site-library --timings circRNAprofiler_1.21.0.tar.gz StartedAt: 2025-02-19 20:51:09 -0500 (Wed, 19 Feb 2025) EndedAt: 2025-02-19 21:01:10 -0500 (Wed, 19 Feb 2025) EllapsedTime: 600.8 seconds RetCode: 0 Status: OK CheckDir: circRNAprofiler.Rcheck Warnings: 0