Package: circRNAprofiler Version: 1.21.0 Command: /home/biocbuild/bbs-3.21-bioc/R/bin/R CMD build --keep-empty-dirs --no-resave-data circRNAprofiler StartedAt: 2025-02-20 16:55:30 -0500 (Thu, 20 Feb 2025) EndedAt: 2025-02-20 16:56:50 -0500 (Thu, 20 Feb 2025) EllapsedTime: 80.1 seconds RetCode: 0 Status: OK PackageFile: circRNAprofiler_1.21.0.tar.gz PackageFileSize: 3.643 MiB