Package: circRNAprofiler Version: 1.21.0 Command: /Library/Frameworks/R.framework/Resources/bin/R CMD INSTALL circRNAprofiler StartedAt: 2025-02-20 15:36:53 -0500 (Thu, 20 Feb 2025) EndedAt: 2025-02-20 15:38:01 -0500 (Thu, 20 Feb 2025) EllapsedTime: 68.2 seconds RetCode: 0 Status: OK