Package: cicero Version: 1.25.0 Command: E:\biocbuild\bbs-3.21-bioc\R\bin\R.exe CMD check --no-multiarch --install=check:cicero.install-out.txt --library=E:\biocbuild\bbs-3.21-bioc\R\library --no-vignettes --timings cicero_1.25.0.tar.gz StartedAt: 2025-02-19 23:38:27 -0500 (Wed, 19 Feb 2025) EndedAt: 2025-02-19 23:47:32 -0500 (Wed, 19 Feb 2025) EllapsedTime: 545.2 seconds RetCode: 0 Status: OK CheckDir: cicero.Rcheck Warnings: 0