Package: cicero Version: 1.25.0 Command: /home/biocbuild/bbs-3.21-bioc/R/bin/R CMD build --keep-empty-dirs --no-resave-data cicero StartedAt: 2025-02-19 16:38:55 -0500 (Wed, 19 Feb 2025) EndedAt: 2025-02-19 16:40:48 -0500 (Wed, 19 Feb 2025) EllapsedTime: 113.1 seconds RetCode: 0 Status: OK PackageFile: cicero_1.25.0.tar.gz PackageFileSize: 1.182 MiB