Package: cicero Version: 1.25.0 Command: /Library/Frameworks/R.framework/Resources/bin/R CMD INSTALL cicero StartedAt: 2025-02-19 15:27:32 -0500 (Wed, 19 Feb 2025) EndedAt: 2025-02-19 15:28:48 -0500 (Wed, 19 Feb 2025) EllapsedTime: 76.7 seconds RetCode: 0 Status: OK