Package: chromstaR Version: 1.33.1 Command: E:\biocbuild\bbs-3.21-bioc\R\bin\R.exe CMD INSTALL chromstaR StartedAt: 2025-02-17 16:07:56 -0500 (Mon, 17 Feb 2025) EndedAt: 2025-02-17 16:08:02 -0500 (Mon, 17 Feb 2025) EllapsedTime: 6.0 seconds RetCode: 1 Status: ERROR