Package: chromstaR Version: 1.33.1 Command: chmod a+r chromstaR -R && E:\biocbuild\bbs-3.21-bioc\R\bin\R.exe CMD build --keep-empty-dirs --no-resave-data chromstaR StartedAt: 2025-02-17 17:47:09 -0500 (Mon, 17 Feb 2025) EndedAt: 2025-02-17 17:47:37 -0500 (Mon, 17 Feb 2025) EllapsedTime: 27.6 seconds RetCode: 1 Status: ERROR PackageFile: None PackageFileSize: NA