Package: chromstaR Version: 1.33.1 Command: /home/biocbuild/bbs-3.21-bioc/R/bin/R CMD INSTALL chromstaR StartedAt: 2025-02-17 15:30:04 -0500 (Mon, 17 Feb 2025) EndedAt: 2025-02-17 15:30:06 -0500 (Mon, 17 Feb 2025) EllapsedTime: 2.3 seconds RetCode: 1 Status: ERROR