Package: chromstaR Version: 1.33.1 Command: /home/biocbuild/bbs-3.21-bioc/R/bin/R CMD build --keep-empty-dirs --no-resave-data chromstaR StartedAt: 2025-02-17 16:37:28 -0500 (Mon, 17 Feb 2025) EndedAt: 2025-02-17 16:37:31 -0500 (Mon, 17 Feb 2025) EllapsedTime: 3.0 seconds RetCode: 1 Status: ERROR PackageFile: None PackageFileSize: NA