Package: chromstaR Version: 1.33.1 Command: /Library/Frameworks/R.framework/Resources/bin/R CMD INSTALL chromstaR StartedAt: 2025-02-19 15:15:33 -0500 (Wed, 19 Feb 2025) EndedAt: 2025-02-19 15:15:37 -0500 (Wed, 19 Feb 2025) EllapsedTime: 3.5 seconds RetCode: 1 Status: ERROR